BEGIN:VCALENDAR
VERSION:2.0
PRODID:-//Círculo Laranja - ECPv6.15.17.1//NONSGML v1.0//EN
CALSCALE:GREGORIAN
METHOD:PUBLISH
X-ORIGINAL-URL:https://circulolaranja.org.br
X-WR-CALDESC:Eventos para Círculo Laranja
REFRESH-INTERVAL;VALUE=DURATION:PT1H
X-Robots-Tag:noindex
X-PUBLISHED-TTL:PT1H
BEGIN:VTIMEZONE
TZID:UTC
BEGIN:STANDARD
TZOFFSETFROM:+0000
TZOFFSETTO:+0000
TZNAME:UTC
DTSTART:20240101T000000
END:STANDARD
END:VTIMEZONE
BEGIN:VEVENT
DTSTART;TZID=UTC:20250503T163000
DTEND;TZID=UTC:20250503T210000
DTSTAMP:20260424T165734
CREATED:20250523T231440Z
LAST-MODIFIED:20250523T231508Z
UID:2286-1746289800-1746306000@circulolaranja.org.br
SUMMARY:Sarau Cultural do Trabalhador
DESCRIPTION:Vem aí o Sarau Cultural do Trabalhador! \nPromovido pelo Círculo Laranja\, nosso Sarau é um espaço de encontro\, arte\, reflexão\, afeto e celebração dedicado a todas as trabalhadoras e trabalhadores do território suburbano. \nNossa programação está cheia de atrações:\n. Apresentações musicais\n. Declamações e performances\n. Leitura de textos literários\n. Debate aberto sobre as vivências de quem constrói o cotidiano suburbano com seu trabalho\n. E\, pra fechar\, um DJ set pra gente dançar! \nMais do que um evento\, nosso Sarau é um convite para fortalecer laços\, dar voz às nossas histórias e celebrar a cultura popular que pulsa nas periferias! \n. Dia 3 de maio\n. A partir das 16h30\n. Sede do Círculo Laranja: R. Álvares Cabral\, 505 | Cachambi \nVenha ocupar\, criar\, celebrar e sonhar com a gente!
URL:https://circulolaranja.org.br/evento/sarau-cultural-do-trabalhador-2/
LOCATION:Sede do Círculo Laranja\, Rua Álvares Cabral\, 505 - Cachambi\, Rio de Janeiro\, RJ\, Brasil
CATEGORIES:Sarau
ATTACH;FMTTYPE=image/jpeg:https://circulolaranja.org.br/wp-content/uploads/2025/05/4-Sarau-Cultural-do-Trabalhador.jpeg
END:VEVENT
BEGIN:VEVENT
DTSTART;TZID=UTC:20250510T080000
DTEND;TZID=UTC:20250510T160000
DTSTAMP:20260424T165734
CREATED:20250523T233044Z
LAST-MODIFIED:20250523T233044Z
UID:2292-1746864000-1746892800@circulolaranja.org.br
SUMMARY:10a Feira Agroecológica do Círculo Laranja: Saúde no Grande Méier - Meio Ambiente & Saúde andam juntos!
DESCRIPTION:Vem aí um sábado de cuidado coletivo\, sustentabilidade e compromisso com o território! \nNeste sábado\, o Círculo Laranja realiza o evento “Saúde no Grande Méier”. Um dia inteiro dedicado à saúde da nossa comunidade e do nosso território\, reunindo serviços essenciais\, práticas de bem-estar e ações que mostram que saúde coletiva também se constrói com sustentabilidade e mobilização. \nConfira a programação: \n8h00 | Mutirão na Horta Comunitária do Círculo Laranja em parceria com a C.F. Erivaldo Fernandes Nóbrega (Localizada na R. Rio Grande do Sul\, 26 – Méier);\n8h00 | Aula de Yoga para todas as idades;\n9h00 – 16h00 | Campanha de Vacinação (Influenza e Tríplice Viral)\, em parceria com a @cf.efn;\n9h00 | Shiatsu e Escalda-pés;\n9h00 | 10ª edição da nossa Feira Agroecológica: Feira com frutas\, legumes e verduras sem veneno e o nosso @emporiodocirculo com produtos agroecológicos\, em parceria com o @raizsezdobrasil.rj;\n9h00 | Brechó e Artesanato;\n9h00 | Cozinha Laranja com comidas e bebidas deliciosas;\n9h00 | Mesa de debate sobre Saúde e Meio Ambiente! \n. 10 de maio (sábado)\n. 8h00 – 16h00\n. Sede do Círculo Laranja | R. Álvares Cabral\, 505 – Cachambi \nÉ gratuito\, é no nosso bairro\, é para todas as idades — e é pra construir um Grande Méier mais saudável\, justo e sustentável. \nO evento é uma realização do Círculo Laranja\, através do projeto Agenda Grande Méier 2030\, com apoio da União Europeia.
URL:https://circulolaranja.org.br/evento/10a-feira-agroecologica-do-circulo-laranja-saude-no-grande-meier-meio-ambiente-saude-andam-juntos/
LOCATION:Sede do Círculo Laranja\, Rua Álvares Cabral\, 505 - Cachambi\, Rio de Janeiro\, RJ\, Brasil
ATTACH;FMTTYPE=image/jpeg:https://circulolaranja.org.br/wp-content/uploads/2025/05/3-Feira-Saude-Grande-Meier.jpeg
END:VEVENT
END:VCALENDAR