BEGIN:VCALENDAR
VERSION:2.0
PRODID:-//Círculo Laranja - ECPv6.15.17.1//NONSGML v1.0//EN
CALSCALE:GREGORIAN
METHOD:PUBLISH
X-ORIGINAL-URL:https://circulolaranja.org.br
X-WR-CALDESC:Eventos para Círculo Laranja
REFRESH-INTERVAL;VALUE=DURATION:PT1H
X-Robots-Tag:noindex
X-PUBLISHED-TTL:PT1H
BEGIN:VTIMEZONE
TZID:UTC
BEGIN:STANDARD
TZOFFSETFROM:+0000
TZOFFSETTO:+0000
TZNAME:UTC
DTSTART:20230101T000000
END:STANDARD
END:VTIMEZONE
BEGIN:VEVENT
DTSTART;TZID=UTC:20240608T130000
DTEND;TZID=UTC:20240608T160000
DTSTAMP:20260425T134250
CREATED:20240603T215932Z
LAST-MODIFIED:20240603T215932Z
UID:1898-1717851600-1717862400@circulolaranja.org.br
SUMMARY:Assembleia Horizontal do Círculo Laranja - LIVRE
DESCRIPTION:A Associação Círculo Laranja\, convida a todos(as) os(as) associados(as)\, voluntários(as)\, assistidos(as) e moradores do Grande Méier para a Assembleia Horizontal do Círculo Laranja – LIVRE\, que acontecerá no Bem Bar @bembarrj\, localizado na R. Cachambi\, 330 – Cachambi. \nO LIVRE acontece uma vez a cada semestre\, com o objetivo de revisitarmos nossas ações\, apurarmos os impactos e resultados e apontarmos as principais tarefas para o próximo período. É LIVRE porque desconsidera toda hierarquia institucional do Círculo e considera que somos\, antes de tudo\, moradores do território e naturalmente\, cidadãos com expectativas de direitos. \nData: 08 de junho\nHorário: 13h00\nLocal: R. Cachambi\, 330 – Cachambi \nPreencha o formulário para confirmar sua presença: bit.ly/livrecirculolaranja
URL:https://circulolaranja.org.br/evento/assembleia-horizontal-do-circulo-laranja-livre/
LOCATION:RUA CACHAMBI\,330\, Rua cachambi 330\, Rio de Janeiro\, Brasil
CATEGORIES:Assembleia
ATTACH;FMTTYPE=image/jpeg:https://circulolaranja.org.br/wp-content/uploads/2024/06/WhatsApp-Image-2024-06-03-at-18.52.17.jpeg
END:VEVENT
BEGIN:VEVENT
DTSTART;TZID=UTC:20240615T090000
DTEND;TZID=UTC:20240615T120000
DTSTAMP:20260425T134250
CREATED:20240603T220606Z
LAST-MODIFIED:20240603T220606Z
UID:1902-1718442000-1718452800@circulolaranja.org.br
SUMMARY:Rolé ZN- Engenho de Dentro
DESCRIPTION:E aí\, rolezeiro(a)! Que tal dar um rolé pelo Engenho de Dentro com o Círculo Laranja? \nNos dias 15/06 e 29/06\, convidamos você a participar do Rolé pelo bairro do Engenho de Dentro. No nosso primeiro passeio do mês\, teremos como ponto de encontro a Estação de Trem do Engenho de Dentro\, no lado do Engenhão. Seguiremos o roteiro rumo à Igreja de Nossa Senhora da Conceição e São José\, Museu do Trem\, Praça do Trem\, Oficina de trens\, Vila Olímpica do Encantado\, Casa do Seu Noca e Engenhão. \nCom interpretação em Libras garantida durante todo o passeio\, nosso objetivo é tornar a história da região acessível\, dando vida às interações sociais\, econômicas\, culturais e políticas que influenciaram nossa realidade. \nAlém disso\, contaremos com a parceria da @naveengenhao\, um equipamento fundamental para o desenvolvimento do território. As Naves do Conhecimento democratizam o acesso ao universo digital em ambientes colaborativos e criativos\, oferecendo oficinas\, cursos e eventos\, promove a inclusão digital e incentiva a inovação e o crescimento econômico local. Teremos a oportunidade de explorar a Nave do Conhecimento de perto\, conhecendo suas instalações. \n15/06\nPonto de encontro: Estação de Trem do Engenho de Dentro (lado do Engenhão)\n9h00\nInscrições através do link na bio ou bit.ly/roleengenho. \nRolé 100% gratuito! Não esqueça de usar roupas confortáveis\, protetor solar e levar sua garrafinha de água.
URL:https://circulolaranja.org.br/evento/role-zn-engenho-de-dentro/
LOCATION:Estação de Trem Engenho de Dentro
CATEGORIES:Rolé ZN
ATTACH;FMTTYPE=image/jpeg:https://circulolaranja.org.br/wp-content/uploads/2024/06/WhatsApp-Image-2024-06-03-at-18.35.12.jpeg
END:VEVENT
BEGIN:VEVENT
DTSTART;TZID=UTC:20240617T090000
DTEND;TZID=UTC:20240617T103000
DTSTAMP:20260425T134250
CREATED:20240617T212231Z
LAST-MODIFIED:20240617T212231Z
UID:1926-1718614800-1718620200@circulolaranja.org.br
SUMMARY:Leitura para Todos- Livro Suvaco\,o Oceano e uma Viagem no Tempo
DESCRIPTION:O Círculo Laranja convida todas as crianças para um encontro com a magia da leitura no evento Círculo de Crianças\, em parceria com o projeto “Leitura para Todos”\, realizado pela @somosallos e @norteshoppingrj. Vamos explorar o encantador livro “Suvaco\, o Oceano e uma Viagem no Tempo”. \n@suvaco_cao é um cão de verdade transformado em personagem de livros infantis. Em sua mais recente aventura\, Suvaco encontra uma máquina do tempo e viaja para 2030\, o ano que marca o encerramento da Década da Ciência Oceânica para o Desenvolvimento Sustentável da ONU. Esta viagem no tempo oferece dois finais diferentes\, dependendo de como cuidamos dos oceanos nos próximos anos. E o final\, quem decide é você! \nPara energizar nossos curiosos aventureiros\, teremos lanchinho. Cada criança receberá um livro de presente para que a magia da leitura continue em casa. \nCom uma cobertura pra lá de especial teremos a presença da TV Câmara @camario\, realizando mais uma matéria sobre o Círculo Laranja e a nossa atividade. \nData: 17 de junho\nHorário: 9h00\nLocal: Círculo Laranja\, R. Álvares Cabral\, 505 – Cachambi \nTraga seus filhos\, sobrinhos e netos para uma manhã cheia de diversão e aprendizado!
URL:https://circulolaranja.org.br/evento/leitura-para-todos-livro-suvacoo-oceano-e-uma-viagem-no-tempo/
LOCATION:Sede do Círculo Laranja\, Rua Álvares Cabral\, 505 - Cachambi\, Rio de Janeiro\, RJ\, Brasil
CATEGORIES:Contação de Histórias
ATTACH;FMTTYPE=image/jpeg:https://circulolaranja.org.br/wp-content/uploads/2024/06/WhatsApp-Image-2024-06-13-at-16.18.22-scaled.jpeg
END:VEVENT
BEGIN:VEVENT
DTSTART;TZID=UTC:20240619T170000
DTEND;TZID=UTC:20240619T180000
DTSTAMP:20260425T134250
CREATED:20240618T120734Z
LAST-MODIFIED:20240618T120734Z
UID:1932-1718816400-1718820000@circulolaranja.org.br
SUMMARY:Grupo de Estudos em Educação Antirracista
DESCRIPTION:O Círculo Laranja convida você para o encontro do Grupo de Estudos em Educação Antirracista\, realizado pelo nosso Comitê de Relações Étnico-raciais. Reconhecemos a urgência e importância de combater o racismo na nossa sociedade\, e a educação é a ferramenta mais poderosa para promover essa transformação. \nNeste encontro\, trabalharemos com o livro “Sabedoria das Águas” de Daniel Munduruku\, autor\, filósofo e educador. A história vivida pelo índio Koru prende a atenção\, e a narrativa envolve pela determinação do personagem na busca da verdade. Durante uma caçada\, Koru passou por uma estranha experiência na clareira das árvores. \nDia 19/06\nÀs 17h00\nSede do Círculo Laranja: R. Álvares Cabral\, 505 – Cachambi \nJunte-se a nós nessa jornada de aprendizado! A educação antirracista é um compromisso de todos nós para construirmos uma sociedade mais justa e igualitária. \nEsperamos você!
URL:https://circulolaranja.org.br/evento/grupo-de-estudos-em-educacao-antirracista/
LOCATION:Sede do Círculo Laranja\, Rua Álvares Cabral\, 505 - Cachambi\, Rio de Janeiro\, RJ\, Brasil
CATEGORIES:Roda de Conversa
ATTACH;FMTTYPE=image/jpeg:https://circulolaranja.org.br/wp-content/uploads/2024/06/WhatsApp-Image-2024-06-17-at-21.21.37.jpeg
END:VEVENT
BEGIN:VEVENT
DTSTART;TZID=UTC:20240619T180000
DTEND;TZID=UTC:20240619T200000
DTSTAMP:20260425T134250
CREATED:20240617T212419Z
LAST-MODIFIED:20240617T212419Z
UID:1930-1718820000-1718827200@circulolaranja.org.br
SUMMARY:Cine Círculo Cultural 
DESCRIPTION:Cine Círculo Cultural \nA sétima arte nos transporta para realidades e mundos\, encurta as distâncias entre sociedades\, promove a ampliação de perspectivas e a possibilidade da expansão de horizontes. Segundo Lenin\, “de todas as artes\, o cinema é\, para nós\, a mais importante”. Nesse sentido\, o Cine Círculo Cultural busca\, por meio dos filmes ou séries\, estimular a reflexão e promover debates acerca da nossa realidade e de suas representações em telas\, páginas ou ruas. \nCelebrando o Dia do Cinema Nacional\, nesta edição do Cine Círculo Cultural\, iremos assistir ao filme “Medida Provisória” (2022). Vencedor do Inffinito Film Festival\, o principal festival de cinema brasileiro no exterior\, o filme é dirigido por Lázaro Ramos e tem no elenco Taís Araújo\, Seu Jorge e Alfred Enoch. Em um futuro distópico\, o governo brasileiro decreta uma medida provisória\, em uma iniciativa de reparação pelo passado escravocrata\, provocando uma reação no Congresso Nacional\, que aprova uma medida que obriga os cidadãos negros a migrarem para a África na intenção de retornarem a suas origens. \nO Cine Círculo Cultural vai acontecer no dia 19/06\, às 18h00\, na sede do Círculo Laranja\, na R. Álvares Cabral\, 505 – Cachambi/Méier. \nAh! Para evitar o uso de descartáveis\, não esqueça de trazer seu copo ou garrafa de casa! Esperamos você!
URL:https://circulolaranja.org.br/evento/cine-circulo-cultural-2/
LOCATION:Praça Agripino Grieco\, Rio de Janeiro
CATEGORIES:Cine Debate
ATTACH;FMTTYPE=image/jpeg:https://circulolaranja.org.br/wp-content/uploads/2024/06/WhatsApp-Image-2024-06-17-at-15.39.48.jpeg
END:VEVENT
BEGIN:VEVENT
DTSTART;TZID=UTC:20240629T090000
DTEND;TZID=UTC:20240629T120000
DTSTAMP:20260425T134250
CREATED:20240626T165335Z
LAST-MODIFIED:20240626T165335Z
UID:1936-1719651600-1719662400@circulolaranja.org.br
SUMMARY:Rolé ZN - Engenho de Dentro
DESCRIPTION:E aí\, rolezeiro(a)! Que tal dar um rolé pelo Engenho de Dentro com o Círculo Laranja? \nNos dia 29/06\, convidamos você a participar do Rolé pelo bairro do Engenho de Dentro. No nosso segundo passeio do mês\, teremos como ponto de encontro a entrada do Instituto Municipal Nise da Silveira. Visitaremos o Memorial da Loucura\, o Espaço Travessia\, o Centro de Convivência e Cultura Trilhos do Engenho e o Museu Imagens do Inconsciente. \nCom interpretação em Libras garantida durante todo o passeio\, nosso objetivo é tornar a história da região acessível\, dando vida às interações sociais\, econômicas\, culturais e políticas que influenciaram nossa realidade. \n🫱🏼‍🫲🏾 Através da parceria com @espaco.travessia\, @museudeimagensdoinconsciente\, @memorialdaloucura e @trilhosdoengenho\, teremos a oportunidade de conhecer mais a história desses espaços que promovem a reintegração social\, saúde mental\, expressão artística e cultura no território. \n29/06\nPonto de encontro: Entrada do Instituto Municipal Nise da Silveira\n9h00\nInscrições através do link na bio ou bit.ly/roleengenho. \nRolé 100% gratuito! Não esqueça de usar roupas confortáveis\, protetor solar e levar sua garrafinha de água. \n 
URL:https://circulolaranja.org.br/evento/role-zn-engenho-de-dentro-2/
LOCATION:Instituto Municipal Nise da Silveira
CATEGORIES:Rolé ZN
ATTACH;FMTTYPE=image/jpeg:https://circulolaranja.org.br/wp-content/uploads/2024/06/WhatsApp-Image-2024-06-25-at-19.31.50-1-scaled.jpeg
END:VEVENT
END:VCALENDAR