BEGIN:VCALENDAR
VERSION:2.0
PRODID:-//Círculo Laranja - ECPv6.15.17.1//NONSGML v1.0//EN
CALSCALE:GREGORIAN
METHOD:PUBLISH
X-WR-CALNAME:Círculo Laranja
X-ORIGINAL-URL:https://circulolaranja.org.br
X-WR-CALDESC:Eventos para Círculo Laranja
REFRESH-INTERVAL;VALUE=DURATION:PT1H
X-Robots-Tag:noindex
X-PUBLISHED-TTL:PT1H
BEGIN:VTIMEZONE
TZID:UTC
BEGIN:STANDARD
TZOFFSETFROM:+0000
TZOFFSETTO:+0000
TZNAME:UTC
DTSTART:20230101T000000
END:STANDARD
END:VTIMEZONE
BEGIN:VEVENT
DTSTART;TZID=UTC:20240412T090000
DTEND;TZID=UTC:20240412T130000
DTSTAMP:20260425T171806
CREATED:20240410T215039Z
LAST-MODIFIED:20240410T215039Z
UID:1775-1712912400-1712926800@circulolaranja.org.br
SUMMARY:RoléZN - São Cristóvão
DESCRIPTION:E aí\, rolezeiro(a)! Que tal dar um rolé por São Cristóvão com o Círculo Laranja? \nNos dias 06/04 e 20/04\, convidamos você a participar do Rolé pelo bairro de São Cristóvão! Inicialmente um bairro-sede da Família Imperial no Rio de Janeiro\, São Cristóvão se tornou ao longo do século XIX um bairro fabril\, abrigando as primeiras indústrias da cidade. Era famoso por sua praia\,  que começava nas ruas Benedito Otoni\, Praça Padre Seve e Rua Monsenhor Manuel Gomes e seguia até a Ponta do Caju\, e foi aterrada para a construção do Porto do Rio\, bem como pela Paróquia de São Cristóvão)\, construída pelos jesuítas ainda em 1627. \nCom interpretação em Libras garantida durante todo o passeio\, nosso objetivo é tornar a história da região acessível\, dando vida às interações sociais\, econômicas\, culturais e políticas que influenciaram nossa realidade. \n06/04 e 20/04\nPonto de encontro: Estação de trem de São Cristóvão\n9h00 Inscrições através do link na bio ou bit.ly/rolesaocristovao. \nRolé 100% gratuito! Não esqueça de usar roupas confortáveis\, protetor solar e levar sua garrafinha de água.
URL:https://circulolaranja.org.br/evento/rolezn-sao-cristovao/
LOCATION:São Cristovão\, Brasil
CATEGORIES:Rolé ZN
ATTACH;FMTTYPE=image/jpeg:https://circulolaranja.org.br/wp-content/uploads/2024/04/Role-Zn-scaled.jpeg
END:VEVENT
BEGIN:VEVENT
DTSTART;TZID=UTC:20240420T163000
DTEND;TZID=UTC:20240420T213000
DTSTAMP:20260425T171806
CREATED:20240417T205733Z
LAST-MODIFIED:20240417T205733Z
UID:1781-1713630600-1713648600@circulolaranja.org.br
SUMMARY:Lançamento do Livro "A Maldição da Saudade" + Sarau do Círculo Laranja
DESCRIPTION:É com alegria que convidamos vocês para um evento literário inesquecível: o lançamento do livro “A Maldição da Saudade” prosa & poesias\, escrito pelo talentoso Felipe Alves. Este evento especial\, organizado pelo Círculo Laranja\, será realizado no dia 20/04\, na nossa sede\, a partir das 16h30. \nPara iniciar essa celebração literária\, teremos uma mesa de apresentação com a participação do próprio autor\, @felipe.alvss. Além de escritor\, Felipe é também professor de História no Círculo Laranja\, e seu envolvimento nas artes da filosofia\, literatura e poesia enriquece sua obra\, publicada pela @orieditora . \nRealizaremos também um sarau\, com o microfone aberto para todos aqueles que desejam compartilhar sua arte e expressão. Queremos incentivar a participação de todos\, pois acreditamos que a cultura se fortalece quando é compartilhada e celebrada no coletivo. \nA Cozinha Laranja também estará funcionando\, com salgados\, doces e bebidas\, para tornar o nosso encontro ainda mais gostoso. Venham fazer parte deste momento único\, repleto de poesia e cultura! \nData: 20/04/2024\nHorário: 16h30\nLocal: Sede do Círculo Laranja\, Rua Álvares Cabral\, 505 – Cachambi/Méier
URL:https://circulolaranja.org.br/evento/lancamento-do-livro-a-maldicao-da-saudade-sarau-do-circulo-laranja-2/
LOCATION:Sede do Círculo Laranja\, Rua Álvares Cabral\, 505 - Cachambi\, Rio de Janeiro\, RJ\, Brasil
CATEGORIES:Sarau
ATTACH;FMTTYPE=image/jpeg:https://circulolaranja.org.br/wp-content/uploads/2024/03/WhatsApp-Image-2024-03-19-at-18.13.13-scaled.jpeg
END:VEVENT
BEGIN:VEVENT
DTSTART;TZID=UTC:20240424T173000
DTEND;TZID=UTC:20240424T213000
DTSTAMP:20260425T171806
CREATED:20240419T202511Z
LAST-MODIFIED:20240419T202511Z
UID:1784-1713979800-1713994200@circulolaranja.org.br
SUMMARY:Reunião de Articulação  (Agenda Grande Méier)
DESCRIPTION:Em 2015\, a comunidade global se uniu em torno de uma visão comum: transformar nosso mundo para o melhor até 2030. A Agenda 2030 para o Desenvolvimento Sustentável estabeleceu metas ambiciosas em áreas vitais como saúde\, educação\, igualdade de gênero e meio ambiente. No entanto\, para que esses objetivos se tornem realidade\, é importante que a comunidade se envolva ativamente. \nÉ por isso que estamos convocando atores culturais\, coletivos locais e equipamentos públicos para se juntarem a nós na Reunião de Articulação para o Lançamento da Agenda Grande Méier 2030. O Círculo Laranja entende que a mudança real começa em nível local. Precisamos da sua voz\, da sua visão e do seu compromisso para moldar um futuro mais sustentável e inclusivo para o Grande Méier. \n24.04\n17h30\nSede do Círculo Laranja: Rua Álvares Cabral\, 505 – Cachambi. \nJuntos\, vamos criar um plano de ação que reflita as necessidades e aspirações de nossa comunidade. Sua participação é fundamental para o sucesso deste projeto! \nSe você tiver alguma dúvida ou quiser mais informações\, não hesite em nos contatar pelo e-mail: agenda2030grandemeier@circulolaranja.org.br. \nEsperamos por você!
URL:https://circulolaranja.org.br/evento/reuniao-de-articulacao-agenda-grande-meier/
LOCATION:Sede do Círculo Laranja\, Rua Álvares Cabral\, 505 - Cachambi\, Rio de Janeiro\, RJ\, Brasil
CATEGORIES:Reunião
ATTACH;FMTTYPE=image/jpeg:https://circulolaranja.org.br/wp-content/uploads/2024/04/WhatsApp-Image-2024-04-19-at-09.34.55-scaled.jpeg
END:VEVENT
BEGIN:VEVENT
DTSTART;TZID=UTC:20240426T120000
DTEND;TZID=UTC:20240504T190000
DTSTAMP:20260425T171806
CREATED:20240426T213549Z
LAST-MODIFIED:20240426T213549Z
UID:1787-1714132800-1714849200@circulolaranja.org.br
SUMMARY:Feijoada do Trabalhador no Círculo Laranja
DESCRIPTION:Feijoada do Trabalhador no Círculo Laranja! \nNo dia 04 de maio\, o Círculo Laranja vai celebrar não apenas o Dia do Trabalhador\, mas também a luta que deu origem ao nosso coletivo. O Círculo nasceu\, como resultado da energia gerada na luta por direitos trabalhistas dos garis em 2014\, e desde então\, continuamos firmes na nossa missão de apoiar e fortalecer a classe trabalhadora. \nA Cozinha Laranja estará à disposição\, com bebidas\, doces e preparando uma deliciosa feijoada\, por apenas \nR$ 20\,00 o prato. \nPara animar ainda mais o evento\, teremos a presença do grupo SAMBE+ @sambe.mais\, fazendo aquela roda de samba com o melhor da música brasileira! \n04/05\n12h00\nSede do Círculo Laranja: R. Álvares Cabral\, 505 – Cachambi/Méier \nVamos combinar\, feijoada\, roda de samba e uma boa cerveja são a melhor combinação! Não dá pra perder\, né? Vamos nos divertir e celebrar todas as conquistas alcançadas até aqui. Junte-se a nós neste dia e fortaleça ainda mais a união da classe trabalhadora! \nTrabalhadores uni-vos!
URL:https://circulolaranja.org.br/evento/feijoada-do-trabalhador-no-circulo-laranja/
LOCATION:Sede do Círculo Laranja\, Rua Álvares Cabral\, 505 - Cachambi\, Rio de Janeiro\, RJ\, Brasil
CATEGORIES:Feijoada
ATTACH;FMTTYPE=image/jpeg:https://circulolaranja.org.br/wp-content/uploads/2024/04/WhatsApp-Image-2024-04-26-at-14.29.31-1-scaled.jpeg
END:VEVENT
BEGIN:VEVENT
DTSTART;TZID=UTC:20240429T140000
DTEND;TZID=UTC:20240429T170000
DTSTAMP:20260425T171806
CREATED:20240427T134618Z
LAST-MODIFIED:20240427T134618Z
UID:1791-1714399200-1714410000@circulolaranja.org.br
SUMMARY:Próximo encontro do Projeto Respiro: Palestra sobre “O olhar da Atenção Básica para a Saúde da Mulher no território”
DESCRIPTION:  \nO Círculo Laranja convida todas as mulheres para o segundo encontro de maio do Projeto Respiro! A palestra sobre Saúde da Mulher abordará diversos aspectos importantes\, desde cuidados preventivos\, como exames ginecológicos e mamografia\, até orientações sobre contracepção e planejamento familiar. Reconhecemos a importância de garantir o acesso a serviços de saúde de qualidade e promover a conscientização sobre a prevenção para garantir e promover o bem-estar das mulheres. \nNossa palestrante convidada é Maria Carolina\, acadêmica bolsista na Clínica da Família Erivaldo Fernandes @cf.efn\, trazendo sua expertise e sensibilidade para enriquecer nosso diálogo. \nO Projeto Respiro é uma iniciativa do Círculo Laranja\, em parceria com o SUS\, que oferece um espaço seguro e acolhedor para mulheres acima de 18 anos se reconectarem consigo mesmas e umas com as outras. Por meio de atividades em grupo\, como oficinas\, palestras e rodas de conversa\, buscamos fortalecer os laços sociais\, promovendo o bem-estar mental e emocional de todas as participantes. \nEsperamos você! Sua saúde é nossa prioridade. 🩷
URL:https://circulolaranja.org.br/evento/proximo-encontro-do-projeto-respiro-palestra-sobre-o-olhar-da-atencao-basica-para-a-saude-da-mulher-no-territorio/
LOCATION:Sede do Círculo Laranja\, Rua Álvares Cabral\, 505 - Cachambi\, Rio de Janeiro\, RJ\, Brasil
CATEGORIES:Palestra
ATTACH;FMTTYPE=image/jpeg:https://circulolaranja.org.br/wp-content/uploads/2024/04/WhatsApp-Image-2024-04-26-at-21.24.37-scaled.jpeg
END:VEVENT
END:VCALENDAR