BEGIN:VCALENDAR
VERSION:2.0
PRODID:-//Círculo Laranja - ECPv6.15.17.1//NONSGML v1.0//EN
CALSCALE:GREGORIAN
METHOD:PUBLISH
X-ORIGINAL-URL:https://circulolaranja.org.br
X-WR-CALDESC:Eventos para Círculo Laranja
REFRESH-INTERVAL;VALUE=DURATION:PT1H
X-Robots-Tag:noindex
X-PUBLISHED-TTL:PT1H
BEGIN:VTIMEZONE
TZID:UTC
BEGIN:STANDARD
TZOFFSETFROM:+0000
TZOFFSETTO:+0000
TZNAME:UTC
DTSTART:20220101T000000
END:STANDARD
END:VTIMEZONE
BEGIN:VEVENT
DTSTART;TZID=UTC:20231012T090000
DTEND;TZID=UTC:20231012T110000
DTSTAMP:20260426T043441
CREATED:20231016T171907Z
LAST-MODIFIED:20231016T171907Z
UID:1680-1697101200-1697108400@circulolaranja.org.br
SUMMARY:Círculo de Crianças
DESCRIPTION:No Dia das Crianças você tem um encontro marcado com a gente! Em parceria com o “Projeto Leitura para Todos” realizado pela Allos\, o Círculo Laranja está trazendo a magia da Disney para a nossa sede! \nPrepare-se para uma Contação de Histórias emocionante baseada no filme “Toy Story” da Disney-Pixar. Vamos embarcar juntos na jornada de Woody\, Buzz Lightyear e toda a turma! “Ao infinito e além!” \nAlém do lanchinho para energizar nossos pequenos exploradores\, cada criança receberá um livro de presente\, para que a magia da leitura continue em casa! Quer inscrever os pequenos no Círculo de Crianças? Clique aqui\, preencha o formulário e aguarde o nosso contato. O evento vai acontecer no dia 12/10\, às 09h00\, na sede do Círculo Laranja. \nTraga seus filhos\, sobrinhos e netos para uma manhã cheia de diversão e magia.
URL:https://circulolaranja.org.br/evento/circulo-de-criancas/
LOCATION:Sede do Círculo Laranja\, Rua Álvares Cabral\, 505 - Cachambi\, Rio de Janeiro\, RJ\, Brasil
CATEGORIES:Contação de Histórias
ATTACH;FMTTYPE=image/png:https://circulolaranja.org.br/wp-content/uploads/2023/10/DIA_DAS_CRIANCAS_EVENTO.png
END:VEVENT
BEGIN:VEVENT
DTSTART;TZID=UTC:20231024T100000
DTEND;TZID=UTC:20231024T140000
DTSTAMP:20260426T043441
CREATED:20231018T171846Z
LAST-MODIFIED:20231018T171846Z
UID:1684-1698141600-1698156000@circulolaranja.org.br
SUMMARY:Oficina de Arte: Técnica de Colagem a partir da obra de Beatriz Milhazes
DESCRIPTION:O Círculo Laranja tem o prazer de anunciar uma oficina única que vai desbloquear a sua criatividade e mergulhar você no maravilhoso mundo da arte. Venha participar da nossa “Oficina de Arte: Técnica de Colagem a partir da obra de Beatriz Milhazes”. \nBeatriz Milhazes é uma artista central na arte contemporânea brasileira\, no panorama da pintura internacional e na história recente da abstração. A artista trabalha com um complexo repertório de imagens associadas a diversos motivos\, origens e fontes\, sobretudo em pintura\, gravura e colagem\, mas também em desenho\, escultura\, livros de artista\, têxteis\, entre outros. \nTendo como facilitadora a talentosa Claudia Leandro\, a oficina te dará a oportunidade de explorar sua criatividade através de traços\, cores\, formas e imaginação. \nPúblico Alvo: Adolescentes a partir de 12 anos\, jovens e adultos;\nData: 24 de Outubro\, terça-feira;\nTurmas: 10h às 11h – 13h às 14h;\nLocal: sede do Círculo Laranja \nInscrições limitadas! Garanta sua vaga agora! Clique aqui e preencha o formulário! Venha explorar a arte da colagem e liberte sua imaginação!
URL:https://circulolaranja.org.br/evento/oficina-de-arte-tecnica-de-colagem-a-partir-da-obra-de-beatriz-milhazes/
LOCATION:Sede do Círculo Laranja\, Rua Álvares Cabral\, 505 - Cachambi\, Rio de Janeiro\, RJ\, Brasil
CATEGORIES:Oficina
ATTACH;FMTTYPE=image/png:https://circulolaranja.org.br/wp-content/uploads/2023/10/uuid85D3FF8D-B6FC-4BE8-8860-384E9A102D81library1type1mode1loctruecaptrue.png
END:VEVENT
END:VCALENDAR