BEGIN:VCALENDAR
VERSION:2.0
PRODID:-//Círculo Laranja - ECPv6.15.17.1//NONSGML v1.0//EN
CALSCALE:GREGORIAN
METHOD:PUBLISH
X-ORIGINAL-URL:https://circulolaranja.org.br
X-WR-CALDESC:Eventos para Círculo Laranja
REFRESH-INTERVAL;VALUE=DURATION:PT1H
X-Robots-Tag:noindex
X-PUBLISHED-TTL:PT1H
BEGIN:VTIMEZONE
TZID:UTC
BEGIN:STANDARD
TZOFFSETFROM:+0000
TZOFFSETTO:+0000
TZNAME:UTC
DTSTART:20200101T000000
END:STANDARD
END:VTIMEZONE
BEGIN:VTIMEZONE
TZID:America/Sao_Paulo
BEGIN:STANDARD
TZOFFSETFROM:-0300
TZOFFSETTO:-0300
TZNAME:-03
DTSTART:20200101T000000
END:STANDARD
END:VTIMEZONE
BEGIN:VEVENT
DTSTART;TZID=UTC:20230715T090000
DTEND;TZID=UTC:20230715T130000
DTSTAMP:20260424T000156
CREATED:20230704T133825Z
LAST-MODIFIED:20230704T133904Z
UID:1632-1689411600-1689426000@circulolaranja.org.br
SUMMARY:V Feira Agroecológica do Círculo Laranja
DESCRIPTION:A V Feira Agroecológica do Círculo Laranja está em clima de Arraiá! \nConvidamos você para participar da nossa V Feira Agroecológica! O evento tem início às 9h com a Feira de Alimentos Agroecológicos em parceria com o Movimento dos Trabalhadores Rurais Sem Terra (MST) com produtos frescos\, saudáveis e sem veneno. Aproveite também o nosso Empório com produtos agroecológicos\, artesanatos\, brechó e produtos do Círculo Laranja. \nO evento conta ainda com uma mesa de debate sobre o tema: “Meio Ambiente\, Racismo e Cidadania” e Contação de Histórias para a criançada! \nE a festa continua! Além da presença de Adelino Sanfoneiro\, vão ter diversas barraquinhas com comidas típicas! \nChame seus amigos e familiares para curtir da V Feira Agroecológica. Juntos\, podemos fortalecer práticas sustentáveis e valorizar a nossa diversidade cultural! \nData: 15 de julho\nHorário: A partir das 9h\nLocal: Sede do Círculo Laranja\, no Cachambi – Méier \nEsperamos vocês!
URL:https://circulolaranja.org.br/evento/v-feira-agroecologica-do-circulo-laranja/
LOCATION:Sede do Círculo Laranja\, Rua Álvares Cabral\, 505 - Cachambi\, Rio de Janeiro\, RJ\, Brasil
CATEGORIES:Feira Agroecológica
ATTACH;FMTTYPE=image/jpeg:https://circulolaranja.org.br/wp-content/uploads/2023/07/WhatsApp-Image-2023-07-04-at-09.18.45-1.jpeg
END:VEVENT
BEGIN:VEVENT
DTSTART;TZID=UTC:20230701T093000
DTEND;TZID=UTC:20230701T120000
DTSTAMP:20260424T000156
CREATED:20230704T111041Z
LAST-MODIFIED:20230704T111041Z
UID:1629-1688203800-1688212800@circulolaranja.org.br
SUMMARY:Cine Círculo Cultural: “O Jogo da Imitação”
DESCRIPTION:A sétima arte nos transporta para realidades e mundos\, encurta as distâncias entre sociedades\, promove ampliação de perspectivas e a possibilidade da expansão de horizontes. Segundo Lenin\, “de todas as artes\, o cinema é\, para nós\, a mais importante”. Nesse sentido\, o Cine Círculo Cultural busca por meio dos filmes ou séries\, estimular a reflexão e promover debates acerca da nossa realidade e de suas representações em telas\, páginas ou ruas. \nAproveitando também o mês da visibilidade LGBTQIAPN+\, nesta edição do Cine Círculo iremos assistir o filme “O Jogo da Imitação”. Alan Turing\, interpretado por Benedict Cumberbatch\, é um matemático focado no trabalho\, que tem problemas de relacionamento com todos à sua volta. Alan vai liderar uma equipe que tem como objetivo quebrar o Enigma\, o famoso código que os alemães usam para enviar mensagens aos submarinos durante a Segunda Guerra Mundial. \nO Cine Círculo Cultural vai acontecer no dia 01/07 (SÁBADO)\, às 9:30h na sede do Círculo Laranja\, no Cachambi – Méier. \nAh! Para evitar o uso de descartáveis\, não esqueça de trazer seu copinho de casa! Esperamos vocês!
URL:https://circulolaranja.org.br/evento/cine-circulo-cultural-o-jogo-da-imitacao/
LOCATION:Sede do Círculo Laranja\, Rua Álvares Cabral\, 505 - Cachambi\, Rio de Janeiro\, RJ\, Brasil
CATEGORIES:Cine Debate
ATTACH;FMTTYPE=image/png:https://circulolaranja.org.br/wp-content/uploads/2023/07/circulo_79.png
END:VEVENT
BEGIN:VEVENT
DTSTART;TZID=UTC:20230610T140000
DTEND;TZID=UTC:20230610T170000
DTSTAMP:20260424T000156
CREATED:20230607T195857Z
LAST-MODIFIED:20230607T195857Z
UID:1622-1686405600-1686416400@circulolaranja.org.br
SUMMARY:Assembleia Horizontal do Círculo Laranja
DESCRIPTION:A Associação Círculo Laranja\, convida a todos(as) os(as) associados(as)\, voluntários(as)\, assistidos(as)\, estudantes e responsáveis para a Assembleia Horizontal do Círculo Laranja\, que acontecerá no Auditório da Nave do Conhecimento. \nData: 10 de junho\nHorário: 14h\nLocal: R. Arquias Cordeiro\, 1516 – Engenho de Dentro\, Rio de Janeiro \nContamos com a sua presença!
URL:https://circulolaranja.org.br/evento/assembleia-horizontal-do-circulo-laranja/
LOCATION:Nave do Conhecimento\, Rua Arquias Cordeiro\, 1516\, Rio de Janeiro\, RJ\, Brasil
CATEGORIES:Reunião
ATTACH;FMTTYPE=image/jpeg:https://circulolaranja.org.br/wp-content/uploads/2023/06/WhatsApp-Image-2023-06-06-at-14.59.14.jpeg
END:VEVENT
BEGIN:VEVENT
DTSTART;TZID=UTC:20230603T093000
DTEND;TZID=UTC:20230603T120000
DTSTAMP:20260424T000156
CREATED:20230531T221543Z
LAST-MODIFIED:20230531T221543Z
UID:1617-1685784600-1685793600@circulolaranja.org.br
SUMMARY:Cine Círculo Cultural: “O Enigma da Energia Escura”
DESCRIPTION:A sétima arte nos transporta para realidades e mundos\, encurta as distâncias entre sociedades\, promove ampliação de perspectivas e a possibilidade da expansão de horizontes. Segundo Lenin\, “de todas as artes\, o cinema é\, para nós\, a mais importante”. Nesse sentido\, o Cine Círculo Cultural busca por meio dos filmes ou séries\, estimular a reflexão e promover debates acerca da nossa realidade e de suas representações em telas\, páginas ou ruas. \nNessa edição do Cine Círculo\, iremos assistir dois episódios da série “O Enigma da Energia Escura”\, apresentada pelo Emicida\, que tem o objetivo de aprofundar as raízes históricas afro-brasileiras. Iremos assistir os episódios “Por que a desigualdade racial é uma grande burrice? Raça e poder” e “Quem te fez tão bom assim? — Eugenia e branquitude”. \nO Cine Círculo Cultural vai acontecer no dia 03/06 (SÁBADO)\, às 9:30h na sede do Círculo Laranja\, no Cachambi – Méier. \nAh! Para evitar o uso de descartáveis\, não esqueça de trazer seu copinho de casa! Esperamos vocês!
URL:https://circulolaranja.org.br/evento/cine-circulo-cultural-o-enigma-da-energia-escura/
LOCATION:Sede do Círculo Laranja\, Rua Álvares Cabral\, 505 - Cachambi\, Rio de Janeiro\, RJ\, Brasil
CATEGORIES:Cine Debate
ATTACH;FMTTYPE=image/jpeg:https://circulolaranja.org.br/wp-content/uploads/2023/05/WhatsApp-Image-2023-05-31-at-15.08.52.jpeg
END:VEVENT
BEGIN:VEVENT
DTSTART;TZID=UTC:20230513T100000
DTEND;TZID=UTC:20230513T130000
DTSTAMP:20260424T000156
CREATED:20230511T174923Z
LAST-MODIFIED:20230511T174923Z
UID:1586-1683972000-1683982800@circulolaranja.org.br
SUMMARY:Aulão de História da África: "A História que a História não conta"
DESCRIPTION:O Círculo Laranja te convida para o aulão: “A HISTÓRIA QUE A HISTÓRIA NÃO CONTA”. \nNa primeira aula fizemos provocações de como o Ocidente através de um projeto dominador e de apagamento\, construiu um imaginário sobre o continente Africano. \nAproveitando o gancho do dia da “Abolição”\, nas próximas aulas vamos contar a História que a História não conta. Vamos viajar no tempo? \nO aulão vai rolar no SÁBADO dia 13/05\, às 10h\, na sede do Círculo Laranja\, localizada no Cachambi – Méier.
URL:https://circulolaranja.org.br/evento/aulao-de-historia-da-africa-a-historia-que-a-historia-nao-conta/
LOCATION:Sede do Círculo Laranja\, Rua Álvares Cabral\, 505 - Cachambi\, Rio de Janeiro\, RJ\, Brasil
CATEGORIES:Aulão
ATTACH;FMTTYPE=image/png:https://circulolaranja.org.br/wp-content/uploads/2023/05/circulo_8.png
END:VEVENT
BEGIN:VEVENT
DTSTART;TZID=UTC:20230506T093000
DTEND;TZID=UTC:20230506T120000
DTSTAMP:20260424T000156
CREATED:20230504T164713Z
LAST-MODIFIED:20230504T164831Z
UID:1580-1683365400-1683374400@circulolaranja.org.br
SUMMARY:Cine Círculo Cultural: “Eles Não Usam Black Tie”
DESCRIPTION:A sétima arte nos transporta para realidades e mundos\, encurta as distâncias entre sociedades\, promove ampliação de perspectivas e a possibilidade da expansão de horizontes. Segundo Lenin\, “de todas as artes\, o cinema é\, para nós\, a mais importante”. Nesse sentido\, o Cine Círculo Cultural busca por meio dos filmes estimular a reflexão e promover debates acerca da nossa realidade e de suas representações em telas\, páginas ou ruas. \nNessa edição do Cine Círculo\, em homenagem ao mês do trabalhador\, iremos assistir “Eles Não Usam Black Tie” (1981). O filme baseado é baseado na peça homônima de Gianfrancesco Guarnieri\, e conta com Fernanda Montenegro no elenco. \nO Cine Círculo Cultural vai acontecer no dia 06/05 (SÁBADO)\, às 9h30 na sede do Círculo Laranja\, no Cachambi – Méier. \nAh! Para evitar o uso de descartáveis\, não esqueça de trazer seu copinho de casa! Esperamos vocês!
URL:https://circulolaranja.org.br/evento/cine-circulo-cultural-eles-nao-usam-black-tie/
LOCATION:Sede do Círculo Laranja\, Rua Álvares Cabral\, 505 - Cachambi\, Rio de Janeiro\, RJ\, Brasil
CATEGORIES:Cine Debate
ATTACH;FMTTYPE=image/png:https://circulolaranja.org.br/wp-content/uploads/2023/05/version1uuid27FDEC13-7FDD-4536-814D-31DB82BDA741modecompatiblenoloc0.png
END:VEVENT
BEGIN:VEVENT
DTSTART;TZID=UTC:20230429T090000
DTEND;TZID=UTC:20230429T120000
DTSTAMP:20260424T000156
CREATED:20230427T171841Z
LAST-MODIFIED:20230427T171952Z
UID:1573-1682758800-1682769600@circulolaranja.org.br
SUMMARY:Oficina de Compostagem: A arte de transformar matéria orgânica em adubo
DESCRIPTION:Pensando em como pequenas atitudes podem trazer impacto ambiental positivo\, o Núcleo do Plantio está realizando a “OFICINA DE COMPOSTAGEM: A ARTE DE TRANSFORMAR MATÉRIA ORGÂNICA EM ADUBO”. \nA oficina vai acontecer dia 29/04 e será uma atividade realizada de 15 em 15 dias\, aos sábados de 9h às 12h. O tempo estimado é de até 3 meses para o resultado final. Porém\, todos poderão observar a cada dia a evolução desse nosso trabalho. \nSustentabilidade é AÇÃO! A cada movimento já não estamos no mesmo lugar.
URL:https://circulolaranja.org.br/evento/oficina-de-compostagem/
LOCATION:Sede do Círculo Laranja\, Rua Álvares Cabral\, 505 - Cachambi\, Rio de Janeiro\, RJ\, Brasil
CATEGORIES:Oficina
ATTACH;FMTTYPE=image/png:https://circulolaranja.org.br/wp-content/uploads/2023/04/EVENTOSENCONTROS.png
END:VEVENT
BEGIN:VEVENT
DTSTART;TZID=America/Sao_Paulo:20211211T150000
DTEND;TZID=America/Sao_Paulo:20211211T180000
DTSTAMP:20260424T000156
CREATED:20211119T025502Z
LAST-MODIFIED:20211126T185606Z
UID:816-1639234800-1639245600@circulolaranja.org.br
SUMMARY:Arena Suburbana
DESCRIPTION:Dia 11 de dezembro – 15h\nNa Praça Agripino Grieco\nTema: Qual o Brasil que queremos para 2022? \nConvidamos a classe trabalhadora suburbana a escrever a muitas mãos a resposta pra pergunta “Que Brasil queremos pra 2022?”.\nJuntos somos mais fortes e podemos encontrar soluções para os problemas que nós reconhecemos na pele. Nada por nós sem nós. \nNa Arena Suburbana que acontecerá 11/12 das 15h às 18h na Praça Agripino Grieco\, no Méier\, nós seremos protagonistas e as nossas propostas\, a minha\, a sua\, a da população de rua\, a de quem vier exercer seu direito de construção política\, será ouvida como prioridade! \nNossa organização é em prol do empoderamento\, da cidadania ativa. Fazer política está nas nossas mãos e a responsabilidade é grande. Devemos nos coletivizar para que sejamos uma frente consistente em defesa dos nossos próprios direitos\, ganhar musculatura política para lutar contra falácias salvadoras da pátria. \nO poder público institucionalizado está à nosso serviço e nós exigimos a garantia direitos e deveres dos cidadãos! \nQual é o nosso lugar na política? O que devemos cobrar dos nossos candidatos elegíveis para cargos institucionais? Como criar um programa político que nos una enquanto sujeitos de direitos frente às rixas partidárias de figuras políticas? \nA Arena Suburbana não será um espaço voltado para o conflito\, mas sim para a confluência de ideias sobre o Brasil que queremos para 2022. Não podemos mais nos abster frente à decadência política e muito menos nos apolitizar. \nNeste primeiro evento vamos nos encontrar\, vislumbrar possibilidades\, vasculhar os escombros a fim de reerguer e ressignificar estruturas da nossa base coletiva. Vamos inaugurar a Arena Suburbana como lócus de agir e pensar de forma cidadã. Vamos construir pautas populares e fazer com que elas sejam ouvidas pelo poder público\, vamos trazer a cidadania para o centro da política ser a participação popular na democracia\, nutrir o corpo político para mais enfrentamentos pós 2022 e avante. Política não se faz só nas urnas\, as urnas refletem a política que fazemos no dia-a-dia! \nVamos juntos?
URL:https://circulolaranja.org.br/evento/arena-suburbana/
LOCATION:Praça Agripino Grieco\, Rio de Janeiro
CATEGORIES:Roda de Conversa
ATTACH;FMTTYPE=image/jpeg:https://circulolaranja.org.br/wp-content/uploads/2021/11/11-12-qualo-brasil-2012.jpg
END:VEVENT
BEGIN:VEVENT
DTSTART;TZID=UTC:20211125T150000
DTEND;TZID=UTC:20211125T180000
DTSTAMP:20260424T000156
CREATED:20211119T125913Z
LAST-MODIFIED:20211119T125955Z
UID:832-1637852400-1637863200@circulolaranja.org.br
SUMMARY:Manifestação dos Servidores e Funcionários Públicos
DESCRIPTION:Luta unificada dos servidores e funcionários públicos do município do Rio de Janeiro pela reposição salarial.\nDia 25 de novembro de 2021 – 15h\nConcentração em frente à porta da prefeitura.
URL:https://circulolaranja.org.br/evento/manifestacao-25-11-21/
LOCATION:Porta da Prefeitura do RJ
CATEGORIES:Manifestação
ATTACH;FMTTYPE=image/jpeg:https://circulolaranja.org.br/wp-content/uploads/2021/11/25-11-luta-unificada-servidores.jpg
END:VEVENT
END:VCALENDAR