BEGIN:VCALENDAR
VERSION:2.0
PRODID:-//Círculo Laranja - ECPv6.15.17.1//NONSGML v1.0//EN
CALSCALE:GREGORIAN
METHOD:PUBLISH
X-WR-CALNAME:Círculo Laranja
X-ORIGINAL-URL:https://circulolaranja.org.br
X-WR-CALDESC:Eventos para Círculo Laranja
REFRESH-INTERVAL;VALUE=DURATION:PT1H
X-Robots-Tag:noindex
X-PUBLISHED-TTL:PT1H
BEGIN:VTIMEZONE
TZID:UTC
BEGIN:STANDARD
TZOFFSETFROM:+0000
TZOFFSETTO:+0000
TZNAME:UTC
DTSTART:20250101T000000
END:STANDARD
END:VTIMEZONE
BEGIN:VEVENT
DTSTART;TZID=UTC:20260414T160000
DTEND;TZID=UTC:20260414T180000
DTSTAMP:20260424T002430
CREATED:20260416T151407Z
LAST-MODIFIED:20260416T151407Z
UID:2609-1776182400-1776189600@circulolaranja.org.br
SUMMARY:Café com Letras Pretas
DESCRIPTION:Um café\, um livro marcante e boas conversas.  \nO Café com Letras Pretas é um clube de leitura no Grande Méier\, promovido pelo Círculo Laranja\, que cria um espaço de encontro\, leitura e troca de ideias a partir de obras importantes da literatura negra brasileira. \nUm momento para desacelerar\, compartilhar impressões e mergulhar coletivamente em histórias que atravessam nossa sociedade. \nNos próximos encontros\, vamos percorrer juntos a leitura de Olhos d’água\, obra da escritora @conceicaoevaristooficial\, uma das vozes mais importantes da literatura brasileira contemporânea. O livro reúne contos que abordam vivências\, afetos e desafios da população negra com sensibilidade e profundidade. \nAo longo de quatro encontros\, vamos ler\, conversar e refletir sobre essa obra potente e atual. \nDatas:\n14/04 | 28/04 | 05/05 | 12/05\nHorário: 16h às 18h\nBiblioteca Carolina Maria de Jesus | Sede do Círculo Laranja\nRua Álvares Cabral\, 505 – Cachambi\nInscreva-se pelo bit.ly/letraspretasabr
URL:https://circulolaranja.org.br/evento/cafe-com-letras-pretas/
LOCATION:Sede do Círculo Laranja\, Rua Álvares Cabral\, 505 - Cachambi\, Rio de Janeiro\, RJ\, Brasil
CATEGORIES:Clube de Leitura
ATTACH;FMTTYPE=image/png:https://circulolaranja.org.br/wp-content/uploads/2026/04/foto-scaled.png
END:VEVENT
BEGIN:VEVENT
DTSTART;TZID=UTC:20260414T180000
DTEND;TZID=UTC:20260414T210000
DTSTAMP:20260424T002430
CREATED:20260416T151650Z
LAST-MODIFIED:20260416T151650Z
UID:2614-1776189600-1776200400@circulolaranja.org.br
SUMMARY:Cine Círculo Cultural
DESCRIPTION:Ponto de Cultura Círculo Laranja realiza mais uma edição do Cine Círculo Cultural!  \nA sétima arte nos transporta para realidades e mundos\, encurta distâncias entre sociedades e nos convida a expandir horizontes. Segundo Lenin\, “de todas as artes\, o cinema é\, para nós\, a mais importante”. \nO Cine Círculo Cultural é um projeto do Círculo Laranja que acredita no poder do cinema como ferramenta de pensamento crítico\, para enxergar e questionar o mundo à nossa volta. Cada sessão é seguida de um debate que conecta o que vimos na tela com o que vivemos na pele. \nNeste encontro\, o filme exibido será Cabeça de Nêgo. A obra acompanha Saulo\, um jovem que\, após reagir a um insulto racista em sala de aula\, é expulso da escola — mas se recusa a sair. A partir dessa decisão\, inicia uma ocupação e passa a utilizar as redes sociais como ferramenta de denúncia\, expondo o abandono\, a violência e o racismo presentes no ambiente escolar. O filme tensiona as estruturas institucionais e evidencia a potência da juventude na luta por direitos e dignidade. \nApós a exibição\, realizaremos um debate coletivo sobre o tema\, aprofundando reflexões sobre racismo\, educação e resistência. \nExibição e debate: 14/04\nHorário: 18h\nLocal: Rua Álvares Cabral\, 505 – Cachambi\nClassificação indicativa: 14 anos\nEntrada gratuita \nO Cine Círculo Cultural está aberto também para universitários que desejam horas de atividades complementares. O prazo para emissão dos certificados de participação é de até uma semana.
URL:https://circulolaranja.org.br/evento/cine-circulo-cultural-3/
LOCATION:Sede do Círculo Laranja\, Rua Álvares Cabral\, 505 - Cachambi\, Rio de Janeiro\, RJ\, Brasil
CATEGORIES:Cine Debate
ATTACH;FMTTYPE=image/jpeg:https://circulolaranja.org.br/wp-content/uploads/2026/04/foto-1-scaled.jpeg
END:VEVENT
END:VCALENDAR