BEGIN:VCALENDAR
VERSION:2.0
PRODID:-//Círculo Laranja - ECPv6.15.17.1//NONSGML v1.0//EN
CALSCALE:GREGORIAN
METHOD:PUBLISH
X-ORIGINAL-URL:https://circulolaranja.org.br
X-WR-CALDESC:Eventos para Círculo Laranja
REFRESH-INTERVAL;VALUE=DURATION:PT1H
X-Robots-Tag:noindex
X-PUBLISHED-TTL:PT1H
BEGIN:VTIMEZONE
TZID:UTC
BEGIN:STANDARD
TZOFFSETFROM:+0000
TZOFFSETTO:+0000
TZNAME:UTC
DTSTART:20230101T000000
END:STANDARD
END:VTIMEZONE
BEGIN:VEVENT
DTSTART;TZID=UTC:20240923T130000
DTEND;TZID=UTC:20240923T160000
DTSTAMP:20260425T112652
CREATED:20240919T163231Z
LAST-MODIFIED:20240919T163231Z
UID:1991-1727096400-1727107200@circulolaranja.org.br
SUMMARY:Circuito Verde: Soluções Sustentáveis para o Futuro
DESCRIPTION:Circuito Verde: Soluções Sustentáveis para o Futuro \nParticipe do nosso evento especial e descubra como meio ambiente\, sustentabilidade e saúde mental estão conectados! Junte-se a nós nos dias 23\, 25 e 27 de setembro para um mergulho profundo em temas importantes para um futuro sustentável. \nProgramação Completa: \n23/09 – Enchentes: Estratégias para Prevenção\, Resiliência e Recuperação\n13:00 – Palestra com Claudia Thamaturgo\n15:00 – Coffee Break\n15:30 – Roda de Conversa sobre Memória Climática com Marlon Almeida e Matheus Knauer \n25/09 – Limpeza Urbana: Caminhos para Cidades Mais Limpas e Sustentáveis\n13:00 – Palestra com Célio Gari\n14:00 – Palestra com Érica Abreu\n15:00 – Coffee Break\n15:30 – Oficina de Resíduo Sólido com Gabriela Bonfim \n27/09 – Conservação em Ação: A Importância de Preservar Recursos e Proteger o Meio Ambiente\n10:00 – Palestra sobre Biodiversidade e Conservação com Marlon Almeida\n13:00 – Palestra sobre Saúde Mental e Meio Ambiente com Aryana Florencio\n14:30 – Coffee Break\n15:00 – Atividade Prática com Leandro Lima \nSede do Círculo Laranja: Rua Álvares Cabral\, 505 – Cachambi \nNão perca essa oportunidade de aprender\, compartilhar e transformar! Inscreva-se e garanta seu certificado! \nInscrições pelo link na bio ou bit.ly/circuitoverdecl.
URL:https://circulolaranja.org.br/evento/circuito-verde-solucoes-sustentaveis-para-o-futuro/
LOCATION:Sede do Círculo Laranja\, Rua Álvares Cabral\, 505 - Cachambi\, Rio de Janeiro\, RJ\, Brasil
CATEGORIES:Sala Verde
ATTACH;FMTTYPE=image/jpeg:https://circulolaranja.org.br/wp-content/uploads/2024/09/WhatsApp-Image-2024-09-18-at-19.55.17-scaled.jpeg
END:VEVENT
END:VCALENDAR