BEGIN:VCALENDAR
VERSION:2.0
PRODID:-//Círculo Laranja - ECPv6.15.17.1//NONSGML v1.0//EN
CALSCALE:GREGORIAN
METHOD:PUBLISH
X-WR-CALNAME:Círculo Laranja
X-ORIGINAL-URL:https://circulolaranja.org.br
X-WR-CALDESC:Eventos para Círculo Laranja
REFRESH-INTERVAL;VALUE=DURATION:PT1H
X-Robots-Tag:noindex
X-PUBLISHED-TTL:PT1H
BEGIN:VTIMEZONE
TZID:UTC
BEGIN:STANDARD
TZOFFSETFROM:+0000
TZOFFSETTO:+0000
TZNAME:UTC
DTSTART:20230101T000000
END:STANDARD
END:VTIMEZONE
BEGIN:VEVENT
DTSTART;TZID=UTC:20240802T090000
DTEND;TZID=UTC:20240802T113000
DTSTAMP:20260425T131604
CREATED:20240731T141036Z
LAST-MODIFIED:20240801T232700Z
UID:1956-1722589200-1722598200@circulolaranja.org.br
SUMMARY:Rolé ZN- Méier
DESCRIPTION:E aí\, rolezeiro(a)! Que tal dar um rolé pelo Méier com o Círculo Laranja? \nNos dias 03/08 e 17/08\, convidamos você a participar do rolé pelo nosso queridinho\, o Méier. Partiremos do Jardim do Méier e conheceremos a história e os pontos culturais do bairro que foi lar de figuras ilustres como Lima Barreto e deu refúgio a ícones como Olga Benário e Luiz Carlos Prestes. No nosso roteiro estão a Basílica Imaculado Coração de Maria\, Estação do Méier\, Hospital Salgado Filho\, Praça Agripino Grieco\, Imperator e Shopping do Méier. \nCom interpretação em Libras garantida durante todo o passeio\, nosso objetivo é tornar a história da região acessível\, dando vida às interações sociais\, econômicas\, culturais e políticas que influenciaram nossa realidade. \n🫱🏼‍🫲🏾 Neste primeiro passeio do mês\, teremos a participação especial do @leaoetiopedomeier\, facção cultural que atua desde 2014\, fomentando a criação de uma política de acesso à cultura em um espaço democrático\, destacando o Méier e a Zona Norte como territórios férteis de grande potencial criativo\, executivo e artístico. \n03/08 e 17/08\nPonto de encontro: Coreto do Jardim do Méier\n9h00\nInscrições através do link na bio ou bit.ly/rolemeier. \nRolé 100% gratuito! Não esqueça de usar roupas confortáveis\, protetor solar e levar sua garrafinha de água. \n 
URL:https://circulolaranja.org.br/evento/role-zn-meier/
LOCATION:Jardim do Méier\, Jardim do Méier\, Rio de Janeiro\, Rio de Janeiro\, 20775-060\, Brasil
CATEGORIES:Rolé ZN
ATTACH;FMTTYPE=image/jpeg:https://circulolaranja.org.br/wp-content/uploads/2024/07/WhatsApp-Image-2024-07-30-at-19.27.06-1.jpeg
END:VEVENT
END:VCALENDAR