BEGIN:VCALENDAR
VERSION:2.0
PRODID:-//Círculo Laranja - ECPv6.15.17.1//NONSGML v1.0//EN
CALSCALE:GREGORIAN
METHOD:PUBLISH
X-WR-CALNAME:Círculo Laranja
X-ORIGINAL-URL:https://circulolaranja.org.br
X-WR-CALDESC:Eventos para Círculo Laranja
REFRESH-INTERVAL;VALUE=DURATION:PT1H
X-Robots-Tag:noindex
X-PUBLISHED-TTL:PT1H
BEGIN:VTIMEZONE
TZID:UTC
BEGIN:STANDARD
TZOFFSETFROM:+0000
TZOFFSETTO:+0000
TZNAME:UTC
DTSTART:20230101T000000
END:STANDARD
END:VTIMEZONE
BEGIN:VEVENT
DTSTART;TZID=UTC:20240302T100000
DTEND;TZID=UTC:20240302T120000
DTSTAMP:20260426T043736
CREATED:20240304T203428Z
LAST-MODIFIED:20240304T203440Z
UID:1761-1709373600-1709380800@circulolaranja.org.br
SUMMARY:Encontro do Setorial de Juventude
DESCRIPTION:Convidamos todos os voluntários e assistidos com idade até 29 anos para o primeiro Encontro do Setorial de Juventude do Círculo Laranja de 2024. O evento será realizado na sede do Círculo\, às 10h00\, neste sábado dia 02/03. \nNeste encontro\, teremos pautas de extrema importância para discutir e deliberar em coletivamente. Aprovaremos a Carta de Intenções da Juventude do Círculo Laranja\, um marco que reflete nossos valores e objetivos enquanto grupo. Além disso\, teremos a oportunidade de reunir os Grêmios do Território para uma troca de ideias enriquecedora e o engajamento da juventude na formulação da Agenda 2030. \nEste encontro é essencial para fortalecermos nossa comunidade e garantir que a voz e as necessidades da juventude sejam ouvidas e representadas. Contamos com a participação de todos para juntos construirmos um futuro mais justo e inclusivo. Nos vemos lá!
URL:https://circulolaranja.org.br/evento/encontro-do-setorial-de-juventude/
LOCATION:Sede do Círculo Laranja\, Rua Álvares Cabral\, 505 - Cachambi\, Rio de Janeiro\, RJ\, Brasil
CATEGORIES:Reunião
ATTACH;FMTTYPE=image/png:https://circulolaranja.org.br/wp-content/uploads/2024/03/uuid0AC9B4A4-78BE-412D-B249-6DE253143190library1type1mode1loctruecaptrue.png
END:VEVENT
BEGIN:VEVENT
DTSTART;TZID=UTC:20240309T140000
DTEND;TZID=UTC:20240309T170000
DTSTAMP:20260426T043736
CREATED:20240304T203937Z
LAST-MODIFIED:20240304T203937Z
UID:1765-1709992800-1710003600@circulolaranja.org.br
SUMMARY:Encontro de Coletivo Seminário de Arborização
DESCRIPTION:O Círculo Laranja convida os coletivos de plantio\, a Fundação Parques e Jardins e a Câmara Técnica de Áreas Verdes – Consemac\, para participar de um encontro que tem como objetivo principal apresentar a proposta de seminário de arborização elaborada pelo Círculo Laranja\, visando a construção coletiva e conjunta entre os diversos coletivos interessados. \nAcreditamos firmemente na importância da colaboração e do compartilhamento de ideias e experiências para o desenvolvimento de projetos significativos e sustentáveis. Por isso\, gostaríamos de contar com a participação ativa de todos os coletivos envolvidos na promoção do plantio e na valorização de áreas verdes em nossa comunidade. \nO seminário de arborização proposto pelo Círculo Laranja visa não apenas compartilhar conhecimentos sobre técnicas de plantio e cuidado com a vegetação urbana\, mas também promover a conscientização sobre a importância da preservação do meio ambiente e do papel fundamental das árvores em nossas vidas. \nEste encontro será uma oportunidade única para trocar experiências\, estabelecer parcerias e construir juntos um futuro mais verde e sustentável para nossa cidade. Esperamos contar com a presença de todos vocês para enriquecer nossas discussões e fortalecer nossa rede de apoio em prol da arborização urbana.
URL:https://circulolaranja.org.br/evento/encontro-de-coletivo-seminario-de-arborizacao/
LOCATION:Sede do Círculo Laranja\, Rua Álvares Cabral\, 505 - Cachambi\, Rio de Janeiro\, RJ\, Brasil
CATEGORIES:Reunião
ATTACH;FMTTYPE=image/png:https://circulolaranja.org.br/wp-content/uploads/2024/03/Post_instagram_semana_do_meio_ambiente_moderno_ilustrado_verde_e_cinza.png
END:VEVENT
END:VCALENDAR