BEGIN:VCALENDAR
VERSION:2.0
PRODID:-//Círculo Laranja - ECPv6.15.17.1//NONSGML v1.0//EN
CALSCALE:GREGORIAN
METHOD:PUBLISH
X-ORIGINAL-URL:https://circulolaranja.org.br
X-WR-CALDESC:Eventos para Círculo Laranja
REFRESH-INTERVAL;VALUE=DURATION:PT1H
X-Robots-Tag:noindex
X-PUBLISHED-TTL:PT1H
BEGIN:VTIMEZONE
TZID:UTC
BEGIN:STANDARD
TZOFFSETFROM:+0000
TZOFFSETTO:+0000
TZNAME:UTC
DTSTART:20230101T000000
END:STANDARD
END:VTIMEZONE
BEGIN:VEVENT
DTSTART;TZID=UTC:20240515T170000
DTEND;TZID=UTC:20240515T203000
DTSTAMP:20260425T212449
CREATED:20240508T225807Z
LAST-MODIFIED:20240508T225807Z
UID:1806-1715792400-1715805000@circulolaranja.org.br
SUMMARY:Grupo de Estudo em Educação Antirracista
DESCRIPTION:O Círculo Laranja convida você para o primeiro encontro do Grupo de Estudo em Educação Antirracista\, realizado pelo nosso Comitê de Relações Étnico-raciais. Reconhecemos a urgência e importância de combater o racismo na nossa sociedade\, e a educação é a ferramenta mais poderosa para promover essa transformação. \nDaremos início às nossas leituras com o livro “Chora não…!” de Sylvia Orthof\, escritora e dramaturga brasileira. Este livro é um convite à reflexão sobre questões raciais através da sensibilidade e da imaginação das crianças\, abordando temas fundamentais de maneira acessível e impactante. \nJunte-se a nós nessa jornada de aprendizado! A educação antirracista é um compromisso de todos nós para construirmos uma sociedade mais justa e igualitária. \nEsperamos você!
URL:https://circulolaranja.org.br/evento/grupo-de-estudo-em-educacao-antirracista/
LOCATION:Sede do Círculo Laranja\, Rua Álvares Cabral\, 505 - Cachambi\, Rio de Janeiro\, RJ\, Brasil
CATEGORIES:Palestra
ATTACH;FMTTYPE=image/jpeg:https://circulolaranja.org.br/wp-content/uploads/2024/05/WhatsApp-Image-2024-05-08-at-19.08.48-scaled.jpeg
END:VEVENT
END:VCALENDAR