BEGIN:VCALENDAR
VERSION:2.0
PRODID:-//Círculo Laranja - ECPv6.15.17.1//NONSGML v1.0//EN
CALSCALE:GREGORIAN
METHOD:PUBLISH
X-ORIGINAL-URL:https://circulolaranja.org.br
X-WR-CALDESC:Eventos para Círculo Laranja
REFRESH-INTERVAL;VALUE=DURATION:PT1H
X-Robots-Tag:noindex
X-PUBLISHED-TTL:PT1H
BEGIN:VTIMEZONE
TZID:UTC
BEGIN:STANDARD
TZOFFSETFROM:+0000
TZOFFSETTO:+0000
TZNAME:UTC
DTSTART:20240101T000000
END:STANDARD
END:VTIMEZONE
BEGIN:VEVENT
DTSTART;TZID=UTC:20250315T080000
DTEND;TZID=UTC:20250315T110000
DTSTAMP:20260425T034330
CREATED:20250312T203259Z
LAST-MODIFIED:20250312T204915Z
UID:2224-1742025600-1742036400@circulolaranja.org.br
SUMMARY:Aula Inaugural Círculo Laranja 2025
DESCRIPTION:O primeiro grande encontro do ano está chegando! No dia 15 de março\, às 8h\, vamos reunir voluntários\, assistidos e toda a Comunidade Círculo para dar início às nossas atividades de 2025. \nEsse é um momento essencial para acolher quem está chegando\, fortalecer nossos laços e alinhar os próximos passos dessa jornada coletiva. \nData: 15 de março (sábado)\nHorário: 08h00\nLocal: C.F. Erivaldo Fernandes Nóbrega | R. Rio Grande do Sul\, 26\, Méier \nAqui é onde tudo começa. Aqui é onde a transformação acontece. Nos vemos lá!
URL:https://circulolaranja.org.br/evento/aula-inaugural-circulo-laranja-2025/
LOCATION:C.F. Erivaldo Fernandes Nóbrega\, Rua Rio Grande do Sul\, 26\, Rio de Janeiro\, RJ\, 20775-100\, Brazil
CATEGORIES:Assembleia,Aulão
ATTACH;FMTTYPE=image/jpeg:https://circulolaranja.org.br/wp-content/uploads/2025/03/250315-Aula-Inaugural-Circulo-Laranja-2025.jpeg
END:VEVENT
END:VCALENDAR