BEGIN:VCALENDAR
VERSION:2.0
PRODID:-//Círculo Laranja - ECPv6.15.17.1//NONSGML v1.0//EN
CALSCALE:GREGORIAN
METHOD:PUBLISH
X-ORIGINAL-URL:https://circulolaranja.org.br
X-WR-CALDESC:Eventos para Círculo Laranja
REFRESH-INTERVAL;VALUE=DURATION:PT1H
X-Robots-Tag:noindex
X-PUBLISHED-TTL:PT1H
BEGIN:VTIMEZONE
TZID:UTC
BEGIN:STANDARD
TZOFFSETFROM:+0000
TZOFFSETTO:+0000
TZNAME:UTC
DTSTART:20230101T000000
END:STANDARD
END:VTIMEZONE
BEGIN:VEVENT
DTSTART;TZID=UTC:20241214T130000
DTEND;TZID=UTC:20241214T170000
DTSTAMP:20260425T101722
CREATED:20250221T181447Z
LAST-MODIFIED:20250221T181447Z
UID:2185-1734181200-1734195600@circulolaranja.org.br
SUMMARY:LIVRE: Assembleia Horizontal do Círculo Laranja
DESCRIPTION:O Círculo Laranja convida você para o LIVRE – Assembleia Horizontal! \nParticipe do nosso encontro semestral\, um espaço dedicado à reflexão\, avaliação e fortalecimento das ações realizadas pelo Círculo Laranja ao longo do ano. O LIVRE é um momento único\, onde dialogamos como cidadãos comprometidos com o território\, reafirmando o compromisso coletivo com a construção de direitos e justiça social. \nPor que você não pode ficar de fora?\nNo LIVRE\, revisitamos nossas ações\, celebramos nossas conquistas e traçamos juntos os próximos passos. É a oportunidade perfeita para somar ideias\, fortalecer conexões e se engajar na transformação do nosso território. \nPROGRAMAÇÃO INSPIRADORA:\n13h: Credenciamento e Networking – Conecte-se com quem faz a diferença!\n14h: Culminância do Rolé ZN – O projeto vencedor do Edital Ações Locais da Prefeitura do Rio.\n15h: Retrospectiva e Impactos 2024 – Vamos celebrar o que construímos juntos!\n16h: Entrega de Homenagens – “Construindo um Território de Direitos no Grande Méier”. \nDATA: 14 de dezembro\nHORÁRIO: 13h00\nLOCAL: Nave do Conhecimento Engenhão | R. Arquias Cordeiro\, 1516 – Engenho de Dentro \nConfirme sua presença agora através do link na bio ou em bit.ly/livre2024. \nTe esperamos no LIVRE!
URL:https://circulolaranja.org.br/evento/livre-assembleia-horizontal-do-circulo-laranja/
LOCATION:Nave do Conhecimento\, Rua Arquias Cordeiro\, 1516\, Rio de Janeiro\, RJ\, Brasil
CATEGORIES:Assembleia
ATTACH;FMTTYPE=image/png:https://circulolaranja.org.br/wp-content/uploads/2025/02/foto.png
END:VEVENT
END:VCALENDAR