BEGIN:VCALENDAR
VERSION:2.0
PRODID:-//Círculo Laranja - ECPv6.15.17.1//NONSGML v1.0//EN
CALSCALE:GREGORIAN
METHOD:PUBLISH
X-ORIGINAL-URL:https://circulolaranja.org.br
X-WR-CALDESC:Eventos para Círculo Laranja
REFRESH-INTERVAL;VALUE=DURATION:PT1H
X-Robots-Tag:noindex
X-PUBLISHED-TTL:PT1H
BEGIN:VTIMEZONE
TZID:UTC
BEGIN:STANDARD
TZOFFSETFROM:+0000
TZOFFSETTO:+0000
TZNAME:UTC
DTSTART:20240101T000000
END:STANDARD
END:VTIMEZONE
BEGIN:VEVENT
DTSTART;TZID=UTC:20250830T100000
DTEND;TZID=UTC:20250830T180000
DTSTAMP:20260424T125907
CREATED:20250811T223715Z
LAST-MODIFIED:20250811T223715Z
UID:2391-1756548000-1756576800@circulolaranja.org.br
SUMMARY:Círculo Laranja 10 anos celebra Noca da Portela
DESCRIPTION:O Círculo Laranja convida toda a comunidade para celebrar seus 10 anos de atuação homenageando um dos maiores nomes da cultura popular brasileira: Noca da Portela. \nCompositor\, poeta e baluarte da Velha Guarda da Portela\, Seu Noca vive há mais de 50 anos no Engenho de Dentro\, no Grande Méier — território onde construiu história\, formou gerações e fortaleceu o samba como expressão de luta\, memória e resistência. \n. 30 de agosto (sábado)\n. 10h00\n. Praça Lima Barreto – Méier\, RJ\nAtrás do Terminal Américo Ayres\, em frente à Rua Soares e ao Colégio Estadual Visconde de Cairu.\n. Entrada gratuita\n. Acessível em Libras \nCompartilha com a sua rede e chega junto! Vamos ocupar a praça e celebrar juntos esse grande encontro entre o samba\, o subúrbio e a cultura popular! \nO projeto “Círculo Laranja 10 anos: celebra Noca da Portela” é realizado com recursos do Edital Viva o Talento – Edição Rio Capital Mundial do Livro\, integrado à Política Nacional Aldir Blanc (PNAB)\, promovido pelo Governo Federal\, Ministério da Cultura\, Prefeitura da Cidade do Rio de Janeiro e Secretaria Municipal de Cultura.
URL:https://circulolaranja.org.br/evento/circulo-laranja-10-anos-celebra-noca-da-portela/
LOCATION:Praça Lima Barreto\, Praça Lima Barreto - Méier\, Rio de Janeiro - RJ\, 20770-000\, Rio de Janeiro\, RJ\, 20770000\, Brazil
CATEGORIES:festa,Oficina,Palestra
ATTACH;FMTTYPE=image/jpeg:https://circulolaranja.org.br/wp-content/uploads/2025/08/250830-Circulo-Laranja-10-anos-celebra-Noca-da-Portela.jpeg
END:VEVENT
END:VCALENDAR