BEGIN:VCALENDAR
VERSION:2.0
PRODID:-//Círculo Laranja - ECPv6.15.17.1//NONSGML v1.0//EN
CALSCALE:GREGORIAN
METHOD:PUBLISH
X-WR-CALNAME:Círculo Laranja
X-ORIGINAL-URL:https://circulolaranja.org.br
X-WR-CALDESC:Eventos para Círculo Laranja
REFRESH-INTERVAL;VALUE=DURATION:PT1H
X-Robots-Tag:noindex
X-PUBLISHED-TTL:PT1H
BEGIN:VTIMEZONE
TZID:UTC
BEGIN:STANDARD
TZOFFSETFROM:+0000
TZOFFSETTO:+0000
TZNAME:UTC
DTSTART:20240101T000000
END:STANDARD
END:VTIMEZONE
BEGIN:VEVENT
DTSTART;TZID=UTC:20250713T090000
DTEND;TZID=UTC:20250713T120000
DTSTAMP:20260424T145558
CREATED:20250712T183443Z
LAST-MODIFIED:20250712T183443Z
UID:2345-1752397200-1752408000@circulolaranja.org.br
SUMMARY:Círculo de Leitura Capítulo 4: "As Tias que alimentam com Axé"
DESCRIPTION:Círculo de Leitura: “As tias que alimentam com axé” \nNo quarto capítulo do Círculo de Leitura\, nosso encontro é guiado pelos caminhos da ancestralidade\, da fé e da força espiritual que move os terreiros. Vamos juntos mergulhar nas páginas do livro “Lendas de Exu”\, de Adilson Martins\, e nos encantar com os ensinamentos e alegorias que moldam a cosmovisão das religiões de matriz africana. \n🪘Na roda\, Célio Viana\, griô do Círculo Laranja\, e Mãe Kelly de Ogum\, dirigente espiritual do Templo de Umbanda Caminheiros da Luz há mais de 30 anos. Com Ogum à frente\, ela conduz um trabalho de cura e fortalecimento da fé. \nÉ tempo de reconhecer o axé das mulheres que sustentam a fé e alimentam o corpo e o espírito do nosso povo. É tempo de exaltar a sabedoria ancestral! \n. Data: 13 de julho (domingo)\n. Horário: 9h00\n. Local: Templo de Umbanda Caminheiros da Luz — Rua Miguel Fernandes\, 736\, Cachambi\n. Evento gratuito | Acessível em Libras \nO Círculo de Leitura é realizado pelo Círculo Laranja e apresentado pelo Governo Federal\, Ministério da Cultura\, Prefeitura da Cidade do Rio de Janeiro e Secretaria Municipal de Cultura.
URL:https://circulolaranja.org.br/evento/circulo-de-leitura-capitulo-4-as-tias-que-alimentam-com-axe/
LOCATION:Templo de Umbanda Caminheiros da Luz\, Rua Miguel Fernandes 736 - Cachambi - RJ\, Rio de Janeiro\, RJ\, 20780060\, Brazil
CATEGORIES:Palestra
ATTACH;FMTTYPE=image/jpeg:https://circulolaranja.org.br/wp-content/uploads/2025/07/250713-Circulo-de-Leitura-Capitulo-4.jpeg
END:VEVENT
END:VCALENDAR