BEGIN:VCALENDAR
VERSION:2.0
PRODID:-//Círculo Laranja - ECPv6.15.17.1//NONSGML v1.0//EN
CALSCALE:GREGORIAN
METHOD:PUBLISH
X-WR-CALNAME:Círculo Laranja
X-ORIGINAL-URL:https://circulolaranja.org.br
X-WR-CALDESC:Eventos para Círculo Laranja
REFRESH-INTERVAL;VALUE=DURATION:PT1H
X-Robots-Tag:noindex
X-PUBLISHED-TTL:PT1H
BEGIN:VTIMEZONE
TZID:UTC
BEGIN:STANDARD
TZOFFSETFROM:+0000
TZOFFSETTO:+0000
TZNAME:UTC
DTSTART:20240101T000000
END:STANDARD
END:VTIMEZONE
BEGIN:VEVENT
DTSTART;TZID=UTC:20250630T140000
DTEND;TZID=UTC:20250630T170000
DTSTAMP:20260424T145602
CREATED:20250617T202252Z
LAST-MODIFIED:20250617T202345Z
UID:2315-1751292000-1751302800@circulolaranja.org.br
SUMMARY:Círculo de Leitura Capítulo 3: "Quilombismo"
DESCRIPTION:Círculo de Leitura: “O Quilombismo” \nNo terceiro capítulo do Círculo de Leitura seguimos firmes nas trilhas da resistência e da memória coletiva. Desta vez\, o encontro nos convida a adentrar o pensamento de Abdias Nascimento\, através de sua obra “O Quilombismo” — um chamado à organização\, à luta e ao sonho de liberdade que segue vivo em cada comunidade negra deste país. \nAo lado de Célio Griô\, quem compõe a roda é Priscila Barros — mulher negra\, moradora do Jacarezinho\, Agente Comunitária de Saúde há 14 anos. Juntos\, eles traçam um diálogo entre o cuidado no território e o legado político e cultural do povo negro. \nÉ tempo de reconhecer os quilombos que nos habitam. É tempo de fazer ecoar as vozes que constroem o presente com os saberes do passado. \nData: 30 de junho (segunda-feira)\nHorário: 14h00\nLocal: CMS Renato Rocco – Rua Aíres de Casal\, s/n – Jacaré\nEvento gratuito | Acessível em Libras \nO Círculo de Leitura é realizado pelo Círculo Laranja e apresentado pelo Governo Federal\, Ministério da Cultura\, Prefeitura da Cidade do Rio de Janeiro e Secretaria Municipal de Cultura.
URL:https://circulolaranja.org.br/evento/circulo-de-leitura-capitulo-3-quilombismo/
LOCATION:CMS Renato Rocco\, Rua Aíres de Casal\, S/N/\, Rio de Janeiro\, RJ\, 20785090\, Brazil
CATEGORIES:Palestra
ATTACH;FMTTYPE=image/jpeg:https://circulolaranja.org.br/wp-content/uploads/2025/06/Arte-3-Circulo-de-Leitura-Capitulo-3.jpeg
END:VEVENT
END:VCALENDAR