BEGIN:VCALENDAR
VERSION:2.0
PRODID:-//Círculo Laranja - ECPv6.15.17.1//NONSGML v1.0//EN
CALSCALE:GREGORIAN
METHOD:PUBLISH
X-ORIGINAL-URL:https://circulolaranja.org.br
X-WR-CALDESC:Eventos para Círculo Laranja
REFRESH-INTERVAL;VALUE=DURATION:PT1H
X-Robots-Tag:noindex
X-PUBLISHED-TTL:PT1H
BEGIN:VTIMEZONE
TZID:UTC
BEGIN:STANDARD
TZOFFSETFROM:+0000
TZOFFSETTO:+0000
TZNAME:UTC
DTSTART:20240101T000000
END:STANDARD
END:VTIMEZONE
BEGIN:VEVENT
DTSTART;TZID=UTC:20250614T163000
DTEND;TZID=UTC:20250614T203000
DTSTAMP:20260424T164812
CREATED:20250617T201939Z
LAST-MODIFIED:20250617T201939Z
UID:2313-1749918600-1749933000@circulolaranja.org.br
SUMMARY:Autoformação Cidadã: Marco Fundacional do Círculo Laranja
DESCRIPTION:Como surgiu o Círculo Laranja? \nQual era o cenário político e social do Brasil naquele momento? Quem são as pessoas fundadoras e cofundadoras desse sonho coletivo? \nNa próxima Autoformação Cidadã\, vamos voltar às nossas origens com um convidado especial: Giuseppe Cocco\, professor da UFRJ e membro da Universidade Nômade. \nUm encontro para refletir sobre o contexto histórico que deu origem ao Círculo e aprofundar o entendimento sobre o que sustenta e move nossa atuação até hoje. \n14 de junho (sábado)\n16h30\nSede do Círculo Laranja: R. Álvares Cabral\, 505 | Cachambi \nNeste ano em que o Círculo Laranja completa 10 anos\, este encontro propõe uma retomada das nossas raízes\, fortalecendo a memória institucional e o sentido da caminhada até aqui.
URL:https://circulolaranja.org.br/evento/autoformacao-cidada-marco-fundacional-do-circulo-laranja/
LOCATION:Sede do Círculo Laranja\, Rua Álvares Cabral\, 505 - Cachambi\, Rio de Janeiro\, RJ\, Brasil
CATEGORIES:Roda de Conversa
ATTACH;FMTTYPE=image/jpeg:https://circulolaranja.org.br/wp-content/uploads/2025/06/Arte-2-Marco-fundacional-do-Circulo.jpeg
END:VEVENT
END:VCALENDAR