BEGIN:VCALENDAR
VERSION:2.0
PRODID:-//Círculo Laranja - ECPv6.15.17.1//NONSGML v1.0//EN
CALSCALE:GREGORIAN
METHOD:PUBLISH
X-ORIGINAL-URL:https://circulolaranja.org.br
X-WR-CALDESC:Eventos para Círculo Laranja
REFRESH-INTERVAL;VALUE=DURATION:PT1H
X-Robots-Tag:noindex
X-PUBLISHED-TTL:PT1H
BEGIN:VTIMEZONE
TZID:UTC
BEGIN:STANDARD
TZOFFSETFROM:+0000
TZOFFSETTO:+0000
TZNAME:UTC
DTSTART:20230101T000000
END:STANDARD
END:VTIMEZONE
BEGIN:VEVENT
DTSTART;TZID=UTC:20240706T090000
DTEND;TZID=UTC:20240706T113000
DTSTAMP:20260425T134252
CREATED:20240702T202716Z
LAST-MODIFIED:20240702T202716Z
UID:1942-1720256400-1720265400@circulolaranja.org.br
SUMMARY:Rolé ZN- Cascadura
DESCRIPTION:E aí\, rolezeiro(a)! Que tal dar um rolé por Cascadura com o Círculo Laranja? \nNo dia 06/07\, convidamos você a participar do rolé pelo bairro Cascadura. No nosso primeiro passeio do mês\, partiremos da Estação de Cascadura até a Praça Nossa Senhora do Amparo e\, em seguida\, conheceremos o Grêmio Recreativo Escola de Samba Arrastão de Cascadura e finalizaremos nosso passeio no Bar do Papa. \nCom interpretação em Libras garantida durante todo o passeio\, nosso objetivo é tornar a história da região acessível\, dando vida às interações sociais\, econômicas\, culturais e políticas que influenciaram nossa realidade. \n🫱🏼‍🫲🏾 Neste passeio\, teremos a parceria do @bar_do_papa\, que\, além de nos receber\, sediará o evento “Coleção Machado Preto” realizado pelo @roleliterariooficial\, finalizando nosso passeio com um encontro super especial dos rolés. \n06/07\nPonto de encontro: Estação de Cascadura\n9h00\nInscrições através do link na bio ou bit.ly/rolecascadura. \nRolé 100% gratuito! Não esqueça de usar roupas confortáveis\, protetor solar e levar sua garrafinha de água.
URL:https://circulolaranja.org.br/evento/role-zn-cascadura/
LOCATION:Estação de Trem cascadura
CATEGORIES:Rolé ZN
ATTACH;FMTTYPE=image/jpeg:https://circulolaranja.org.br/wp-content/uploads/2024/07/WhatsApp-Image-2024-07-01-at-21.08.25-scaled.jpeg
END:VEVENT
END:VCALENDAR