BEGIN:VCALENDAR
VERSION:2.0
PRODID:-//Círculo Laranja - ECPv6.15.17.1//NONSGML v1.0//EN
CALSCALE:GREGORIAN
METHOD:PUBLISH
X-WR-CALNAME:Círculo Laranja
X-ORIGINAL-URL:https://circulolaranja.org.br
X-WR-CALDESC:Eventos para Círculo Laranja
REFRESH-INTERVAL;VALUE=DURATION:PT1H
X-Robots-Tag:noindex
X-PUBLISHED-TTL:PT1H
BEGIN:VTIMEZONE
TZID:UTC
BEGIN:STANDARD
TZOFFSETFROM:+0000
TZOFFSETTO:+0000
TZNAME:UTC
DTSTART:20230101T000000
END:STANDARD
END:VTIMEZONE
BEGIN:VEVENT
DTSTART;TZID=UTC:20240511T090000
DTEND;TZID=UTC:20240511T130000
DTSTAMP:20260425T171805
CREATED:20240508T225349Z
LAST-MODIFIED:20240701T153922Z
UID:1801-1715418000-1715432400@circulolaranja.org.br
SUMMARY:VIII  Feira Agroecológica
DESCRIPTION:VIII Feira Agroecológica do Círculo Laranja – Véspera do Dia das Mães!🪻 \nÉ com imensa alegria que convidamos você para um dia repleto de afeto\, saúde e bem-estar. No dia 11/05 você tem um encontro marcado no Círculo Laranja! O evento começa às 9h com a Feira de Alimentos Agroecológicos em parceria com o Movimento dos Pequenos Agricultores (MPA)\, oferecendo produtos frescos\, saudáveis e livres de veneno. Explore também o nosso Empório com produtos agroecológicos\, artesanatos e brechó. \nMas as surpresas não param por aí! Preparamos quatro oficinas gratuitas imperdíveis para você\, e sua mãe\, desfrutarem:\nOficina de Costura Criativa: Descubra sua habilidade manual em uma oficina exclusiva com no máximo três participantes. Você irá confeccionar sua própria carteira e sairá de lá com um produto único feito por você! \nOficina de Experiências Musicais: Junte-se a nós para uma experiência musical única com até 11 pessoas. Explore diversos instrumentos e deixe sua criatividade fluir!\nOficina de Molho Pesto: Aprenda a preparar essa receita saudável e deliciosa\, aproveitando os alimentos frescos da nossa horta.\nOficina de Yoga: Promova o bem-estar e a saúde mental na oficina de yoga. Convide sua mãe para participar dessa experiência revitalizante. \nAlém disso\, a Cozinha Laranja estará pronta para servir comidas & bebidas\, tornando o seu sábado ainda mais gostoso! \nData: 11 de maio\nHorário: A partir das 9h\nLocal: Sede do Círculo Laranja – Rua Álvares Cabral\, 505\, no Cachambi – Méier\nInscrição em Oficinas: através do link na bio ou pelo bit.ly/oficinasfeiracl. \nQue tal surpreender sua mãe com um almoço especial preparado com ingredientes frescos da nossa feira? Garanta os melhores produtos e crie momentos inesquecíveis ao lado dela! Não perca esta oportunidade! Traga sua mãe\, a família ou os(as) amigos(as)\, o importante é compartilhar este momento especial com a gente!\n.
URL:https://circulolaranja.org.br/evento/viii-feira-agroecologica/
LOCATION:Sede do Círculo Laranja\, Rua Álvares Cabral\, 505 - Cachambi\, Rio de Janeiro\, RJ\, Brasil
CATEGORIES:Feira Agroecológica
ATTACH;FMTTYPE=image/jpeg:https://circulolaranja.org.br/wp-content/uploads/2024/05/WhatsApp-Image-2024-05-08-at-19.08.26-scaled.jpeg
END:VEVENT
END:VCALENDAR